BEGIN:VCALENDAR
VERSION:2.0
PRODID:-//Wat is jouw Rheden - ECPv5.16.4.1//NONSGML v1.0//EN
CALSCALE:GREGORIAN
METHOD:PUBLISH
X-WR-CALNAME:Wat is jouw Rheden
X-ORIGINAL-URL:https://www.watisjouwrheden.nl
X-WR-CALDESC:Evenementen voor Wat is jouw Rheden
BEGIN:VTIMEZONE
TZID:Europe/Amsterdam
BEGIN:DAYLIGHT
TZOFFSETFROM:+0100
TZOFFSETTO:+0200
TZNAME:CEST
DTSTART:20240331T010000
END:DAYLIGHT
BEGIN:STANDARD
TZOFFSETFROM:+0200
TZOFFSETTO:+0100
TZNAME:CET
DTSTART:20241027T010000
END:STANDARD
END:VTIMEZONE
BEGIN:VEVENT
DTSTART;TZID=Europe/Amsterdam:20240210T110000
DTEND;TZID=Europe/Amsterdam:20240210T123000
DTSTAMP:20260424T185321
CREATED:20240129T123538Z
LAST-MODIFIED:20240201T101037Z
UID:17883-1707562800-1707568200@www.watisjouwrheden.nl
SUMMARY:Opening Energiewinkel Dieren-West
DESCRIPTION:Feestelijke opening Energiewinkel Dieren-West\nOp zaterdag 10 februari a.s. opent de nieuwe Energiewinkel in Dieren-West. Je bent van harte uitgenodigd voor de feestelijke opening! \nDeze winkel is er om inwoners van Dieren-West en de gemeente Rheden te inspireren en te ondersteunen omtrent de verduurzaming van hun woning. \nProgramma\nHieronder vind je het programma voor de dag: \n\n11:00 – Een warm welkom met een kopje koffie om de dag te beginnen\n11:15 – De officiële opening met een inspirerend woord van Paul en Cees\n11:30 – Rondkijken in de nieuwe winkel\n12:00 – We sluiten gezellig af met soep en een broodje\n\nDe Energiewinkel bevindt zich in de Ontmoetingskerk\, met de ingang aan de achterkant van de kerk op Domeinlaan 2 in Dieren. \nDeze dag is een uitgelezen kans om meer te leren over duurzame energie\, om ideeën uit te wisselen met gelijkgestemden en om te zien wat je kunt doen voor een groener Dieren-West (of Rheden). \nOf je nu al veel weet over duurzaamheid of net begint\, er is voor ieder wat wils. We hopen je daar te zien! \nTot 10 februari!
URL:https://www.watisjouwrheden.nl/agenda/opening-energiewinkel-dieren-west/
LOCATION:de Ontmoetingskerk Dieren\, Admiraal Helfrichlaan 54\, Dieren\, Gelderland\, 6952 GJ\, Nederland
CATEGORIES:Energie besparen
ATTACH;FMTTYPE=image/png:https://www.watisjouwrheden.nl/wp-content/uploads/2024/01/Insta-post-WIJR-Opening-Energiewinkel-Dieren-West-1.png
ORGANIZER;CN="Gemeente%20Rheden":MAILTO:duurzaamwonen@rheden.nl
END:VEVENT
END:VCALENDAR